BEGIN:VCALENDAR
PRODID:-//github.com/ical-org/ical.net//NONSGML ical.net 4.0//EN
VERSION:2.0
X-WR-CALNAME:generationennetz balingen Kalender
BEGIN:VEVENT
DESCRIPTION:Anmeldung Teilnahme und Hol- und Bringdienst erfolgt über Gise
 la Müller bis spätestens 21.04.2026Tel. 07433 15422.Kuchenspenden sind wi
 llkommen.
DTEND:20260424T133000Z
DTSTAMP:20260421T123313Z
DTSTART:20260424T123000Z
LOCATION:erlebnisreich wohnen\, Spitalwiese 1
SEQUENCE:0
SUMMARY:Kaffeetreff
UID:g1862
URL:https://www.generationennetz-bl.de/termin/details/1862
END:VEVENT
BEGIN:VEVENT
DESCRIPTION:Keine Anmeldung erforderlichWer mag\, kann gerne einen Snack m
 itbringen. \nDieser Termin spricht auch alle an\, die gerne erfahren woll
 en\, was wir im generationennetz balingen machen.Kommt gerne unverbindlic
 h auf ein nettes Gespräch mit uns vorbei.
DTSTAMP:20260421T123313Z
DTSTART;VALUE=DATE:20260430
LOCATION:erlebnisreich wohnen\, Spitalwiese 1
SEQUENCE:0
SUMMARY:Stammtisch im erlebnisreich für Mitglieder und Interessierte
UID:g1871
URL:https://www.generationennetz-bl.de/termin/details/1871
END:VEVENT
BEGIN:VEVENT
DESCRIPTION:Wer dabei sein will\, meldet sich im April!\nAnmeldung bis spä
 testens 26.04. bei Birgit Letsch:Mobil: 01626563803 e-Mail:letschb@web.de
 \nEs wird zwei kleine Wanderungen geben. Die genaueren Daten entnehmt ihr
  bitte dem Newsletter.Falls ihr den Newsletter nicht abonniert habt\, kön
 nt ihr den auch auf unserer Homepage herunterladen.Im Anschluss an beide 
 Varianten ist Einkehr im Zollersteighof.\n \n
DTEND:20260502T090000Z
DTSTAMP:20260421T123313Z
DTSTART:20260502T080000Z
LOCATION:Schuppen\, Gemeinschaftsgarten und im erlebnisreich wohnen Spital
 wiese 1
SEQUENCE:0
SUMMARY:Wanderung Zeller Horn
UID:g1890
URL:https://www.generationennetz-bl.de/termin/details/1890
END:VEVENT
BEGIN:VEVENT
DESCRIPTION:An- und Abmeldung über Martina Wendland\, 07433/3866125
DTEND:20260509T090000Z
DTSTAMP:20260421T123313Z
DTSTART:20260509T080000Z
LOCATION:Noahs Balingen\, Friedrichstr. 2
SEQUENCE:0
SUMMARY:Frühstückstreff
UID:g1867
URL:https://www.generationennetz-bl.de/termin/details/1867
END:VEVENT
BEGIN:VEVENT
DESCRIPTION:Anmeldung Teilnahme und Hol- und Bringdienst erfolgt über Gise
 la Müller bis spätestens 27.05.2026Tel. 07433 15422.Kuchenspenden sind wi
 llkommen.
DTEND:20260529T133000Z
DTSTAMP:20260421T123313Z
DTSTART:20260529T123000Z
LOCATION:erlebnisreich wohnen\, Spitalwiese 1
SEQUENCE:0
SUMMARY:Kaffeetreff
UID:g1863
URL:https://www.generationennetz-bl.de/termin/details/1863
END:VEVENT
BEGIN:VEVENT
DESCRIPTION:Keine Anmeldung erforderlichWer mag\, kann gerne einen Snack m
 itbringen. \nDieser Termin spricht auch alle an\, die gerne erfahren woll
 en\, was wir im generationennetz balingen machen.Kommt gerne unverbindlic
 h auf ein nettes Gespräch mit uns vorbei.
DTSTAMP:20260421T123313Z
DTSTART;VALUE=DATE:20260604
LOCATION:erlebnisreich wohnen\, Spitalwiese 1
SEQUENCE:0
SUMMARY:Stammtisch im erlebnisreich für Mitglieder und Interessierte
UID:g1872
URL:https://www.generationennetz-bl.de/termin/details/1872
END:VEVENT
BEGIN:VEVENT
DESCRIPTION:An- und Abmeldung über Martina Wendland\, 07433/3866125
DTEND:20260613T090000Z
DTSTAMP:20260421T123313Z
DTSTART:20260613T080000Z
LOCATION:Noahs Balingen\, Friedrichstr. 2
SEQUENCE:0
SUMMARY:Frühstückstreff
UID:g1868
URL:https://www.generationennetz-bl.de/termin/details/1868
END:VEVENT
BEGIN:VEVENT
DESCRIPTION:Anmeldung Teilnahme und Hol- und Bringdienst erfolgt über Gise
 la Müller bis spätestens 27.06.2026Tel. 07433 15422.Kuchenspenden sind wi
 llkommen.
DTEND:20260626T133000Z
DTSTAMP:20260421T123313Z
DTSTART:20260626T123000Z
LOCATION:erlebnisreich wohnen\, Spitalwiese 1
SEQUENCE:0
SUMMARY:Kaffeetreff
UID:g1864
URL:https://www.generationennetz-bl.de/termin/details/1864
END:VEVENT
BEGIN:VEVENT
DESCRIPTION:Termin vormerken.\nNähere Infos kommen noch.
DTEND:20260801T090000Z
DTSTAMP:20260421T123313Z
DTSTART:20260801T080000Z
LOCATION:Schuppen\, Gemeinschaftsgarten und im erlebnisreich wohnen Spital
 wiese 1
SEQUENCE:0
SUMMARY:Wanderung Ochsenberg
UID:g1891
URL:https://www.generationennetz-bl.de/termin/details/1891
END:VEVENT
BEGIN:VEVENT
DESCRIPTION:Gemeinsam wollen wir für den Winterzauber wieder leckere "Bred
 le" backen.
DTSTAMP:20260421T123313Z
DTSTART;VALUE=DATE:20261105
LOCATION:Essbar im erlebnisreich wohnen\, Spitalwiese 1
SEQUENCE:0
SUMMARY:Backen für den Winterzauber
UID:g1876
URL:https://www.generationennetz-bl.de/termin/details/1876
END:VEVENT
BEGIN:VEVENT
DESCRIPTION:Gemeinsam wollen wir für den Winterzauber wieder leckere "Bred
 le" backen.
DTSTAMP:20260421T123313Z
DTSTART;VALUE=DATE:20261106
LOCATION:Essbar im erlebnisreich wohnen\, Spitalwiese 1
SEQUENCE:0
SUMMARY:Backen für den Winterzauber
UID:g1877
URL:https://www.generationennetz-bl.de/termin/details/1877
END:VEVENT
BEGIN:VEVENT
DESCRIPTION:Gemeinsam wollen wir für den Winterzauber wieder wunderschöne 
 Kränze binden.
DTSTAMP:20260421T123313Z
DTSTART;VALUE=DATE:20261113
LOCATION:erlebnisreich wohnen\, Spitalwiese 1
SEQUENCE:0
SUMMARY:Kranzen
UID:g1875
URL:https://www.generationennetz-bl.de/termin/details/1875
END:VEVENT
BEGIN:VEVENT
DESCRIPTION:Jedem Herbst wohnt ein Winterzauber inne.Am 21.11.2025 von 11 
 bis 17 Uhr in der Spitalwiese 1 beim Schuppen.Es gibt Dinnede\, Geschenkl
 e\, Kaffee & Kuchen\, Suppe oder Wurst\, Glühwein & Kinderpunsch für den 
 Durst.
DTEND:20261121T160000Z
DTSTAMP:20260421T123313Z
DTSTART:20261121T100000Z
LOCATION:Schuppen\, Spitalwiese 1
SEQUENCE:0
SUMMARY:Winterzauber
UID:g1874
URL:https://www.generationennetz-bl.de/termin/details/1874
END:VEVENT
END:VCALENDAR
